BEGIN:VCALENDAR
VERSION:2.0
PRODID:-//eventon.com NONSGML v1.0//EN
CALSCALE:GREGORIAN
METHOD:PUBLISH
BEGIN:VEVENT
UID:69e5ee905f204
DTSTAMP:20260420T091456Z
DTSTART:20251108
DTEND:20251109
LOCATION:
SUMMARY:International Friends Pigeon Forge Trip
DESCRIPTION:I.F. will be taking a day trip for shopping and Wonderworks!\nh
 ttps://www.liveforgiven.life/events/international-friends-pigeon-forge-trip
 -2/
URL:https://www.liveforgiven.life/events/international-friends-pigeon-forge-trip-2/
END:VEVENT
END:VCALENDAR