BEGIN:VCALENDAR
VERSION:2.0
PRODID:-//eventon.com NONSGML v1.0//EN
CALSCALE:GREGORIAN
METHOD:PUBLISH
BEGIN:VEVENT
UID:69e74d23c595c
DTSTAMP:20260421T101043Z
DTSTART:20240904T190000Z
DTEND:20240904T200000Z
LOCATION:
SUMMARY:Genealogy of Jesus Bible Study
DESCRIPTION:Come and join us while we explore the genealogy of Jesus. We wi
 ll be looking at the individuals and stories from the creation of man all t
 he way to Christ.\nhttps://www.liveforgiven.life/events/genealogy-of-jesus-
 bible-study/
URL:https://www.liveforgiven.life/events/genealogy-of-jesus-bible-study/
END:VEVENT
END:VCALENDAR