BEGIN:VCALENDAR
VERSION:2.0
PRODID:-//eventon.com NONSGML v1.0//EN
CALSCALE:GREGORIAN
METHOD:PUBLISH
BEGIN:VEVENT
UID:69e4cea0d70e9
DTSTAMP:20260419T124624Z
DTSTART:20240614T230000Z
DTEND:20240615T010000Z
LOCATION:Live Forgiven Church 45 Crown Ridge Road
SUMMARY:Teens Encounter Christ
DESCRIPTION:Teens Encounter Christ (T.E.C.) is a student ministry for ages 
 13-18.&nbsp; &nbsp;We believe there is no one more relevant to high school 
 students today than Jesus Christ!\nhttps://www.liveforgiven.life/events/tee
 ns-encounter-christ-65/
URL:https://www.liveforgiven.life/events/teens-encounter-christ-65/
END:VEVENT
END:VCALENDAR