BEGIN:VCALENDAR
VERSION:2.0
PRODID:-//eventon.com NONSGML v1.0//EN
CALSCALE:GREGORIAN
METHOD:PUBLISH
BEGIN:VEVENT
UID:69e5eb0e80312
DTSTAMP:20260420T085958Z
DTSTART:20240609T143000Z
DTEND:20240609T160000Z
LOCATION:Live Forgiven Church 45 Crown Ridge Road
SUMMARY:Sunday Morning Worship
DESCRIPTION:Join us Sunday morning for Worship @ 10:30am!\nhttps://www.live
 forgiven.life/events/sunday-morning-worship-203/
URL:https://www.liveforgiven.life/events/sunday-morning-worship-203/
END:VEVENT
END:VCALENDAR