BEGIN:VCALENDAR
VERSION:2.0
PRODID:-//eventon.com NONSGML v1.0//EN
CALSCALE:GREGORIAN
METHOD:PUBLISH
BEGIN:VEVENT
UID:69e5eb6b5d278
DTSTAMP:20260420T090131Z
DTSTART:20230207T010000Z
DTEND:20230207T020000Z
LOCATION:Western Carolina University - Illusions
SUMMARY:Campus Rock
DESCRIPTION:Campus Rock is a college ministry of Live Forgiven Church. For 
 more information\,  please visit campusrock.org\nhttps://www.liveforgiven.l
 ife/events/campus-rock-10/
URL:https://www.liveforgiven.life/events/campus-rock-10/
END:VEVENT
END:VCALENDAR