BEGIN:VCALENDAR
VERSION:2.0
PRODID:-//eventon.com NONSGML v1.0//EN
CALSCALE:GREGORIAN
METHOD:PUBLISH
BEGIN:VEVENT
UID:69e5ebcf73f39
DTSTAMP:20260420T090311Z
DTSTART:20230129T220000Z
DTEND:20230129T230000Z
LOCATION:
SUMMARY:Y.O.
DESCRIPTION:Youth Outreach will be meeting at the church at 5:00pm. Ages 6-
 12\nhttps://www.liveforgiven.life/events/y-o-11/
URL:https://www.liveforgiven.life/events/y-o-11/
END:VEVENT
END:VCALENDAR