BEGIN:VCALENDAR
VERSION:2.0
PRODID:-//eventon.com NONSGML v1.0//EN
CALSCALE:GREGORIAN
METHOD:PUBLISH
BEGIN:VEVENT
UID:69e5e9c1a9a98
DTSTAMP:20260420T085425Z
DTSTART:20190924T171500Z
DTEND:20190924T235000Z
LOCATION:
SUMMARY:International Friends I-GIG Bible Study
DESCRIPTION:International Groups Investigating God\nhttps://www.liveforgive
 n.life/events/international-friends-i-gig-bible-study/
URL:https://www.liveforgiven.life/events/international-friends-i-gig-bible-study/
END:VEVENT
END:VCALENDAR