BEGIN:VCALENDAR
VERSION:2.0
PRODID:-//eventon.com NONSGML v1.0//EN
CALSCALE:GREGORIAN
METHOD:PUBLISH
BEGIN:VEVENT
UID:69e735e1c9c6d
DTSTAMP:20260421T083129Z
DTSTART:20190519T103000Z
DTEND:20190519T235000Z
LOCATION:
SUMMARY:Sunday Morning Worship
DESCRIPTION:Join us Sunday morning for Worship @ 10:30am!\nhttps://www.live
 forgiven.life/events/sunday-morning-worship-23/
URL:https://www.liveforgiven.life/events/sunday-morning-worship-23/
END:VEVENT
END:VCALENDAR