BEGIN:VCALENDAR
VERSION:2.0
PRODID:-//eventon.com NONSGML v1.0//EN
CALSCALE:GREGORIAN
METHOD:PUBLISH
BEGIN:VEVENT
UID:69e74e6d80da2
DTSTAMP:20260421T101613Z
DTSTART:20190509T180000Z
DTEND:20190509T235000Z
LOCATION:
SUMMARY:Music Theory and Worship
DESCRIPTION:How can music theory make it easier for you to worship the Lord
  on your instrument? Come find out this week!\nhttps://www.liveforgiven.lif
 e/events/music-theory-and-worship/
URL:https://www.liveforgiven.life/events/music-theory-and-worship/
END:VEVENT
END:VCALENDAR