BEGIN:VCALENDAR
VERSION:2.0
PRODID:-//eventon.com NONSGML v1.0//EN
CALSCALE:GREGORIAN
METHOD:PUBLISH
BEGIN:VEVENT
UID:69e5e86c7fb21
DTSTAMP:20260420T084844Z
DTSTART:20190220T200000Z
DTEND:20190220T235000Z
LOCATION:
SUMMARY:International Friends: Oyakodon Night
DESCRIPTION:Wednesday\,  February 20\,  Blue Ridge Dorm @ 8pm\nhttps://www.
 liveforgiven.life/events/international-friends-oyakodon-night/
URL:https://www.liveforgiven.life/events/international-friends-oyakodon-night/
END:VEVENT
END:VCALENDAR