BEGIN:VCALENDAR
VERSION:2.0
PRODID:-//eventon.com NONSGML v1.0//EN
CALSCALE:GREGORIAN
METHOD:PUBLISH
BEGIN:VEVENT
UID:69e5ebcfe2509
DTSTAMP:20260420T090311Z
DTSTART:20181014T103000Z
DTEND:20181014T235000Z
LOCATION:
SUMMARY:Sunday Morning Worship
DESCRIPTION:Join us Sunday morning for Worship @ 10:30am!\nhttps://www.live
 forgiven.life/events/sunday-morning-worship-6/
URL:https://www.liveforgiven.life/events/sunday-morning-worship-6/
END:VEVENT
END:VCALENDAR